BEGIN:VCALENDAR
VERSION:2.0
PRODID:-//Presbyterian Foundation - ECPv6.15.20//NONSGML v1.0//EN
CALSCALE:GREGORIAN
METHOD:PUBLISH
X-ORIGINAL-URL:https://presbyterianfoundation.louderstaging.com
X-WR-CALDESC:Events for Presbyterian Foundation
REFRESH-INTERVAL;VALUE=DURATION:PT1H
X-Robots-Tag:noindex
X-PUBLISHED-TTL:PT1H
BEGIN:VTIMEZONE
TZID:America/Indiana/Indianapolis
BEGIN:DAYLIGHT
TZOFFSETFROM:-0500
TZOFFSETTO:-0400
TZNAME:EDT
DTSTART:20220313T070000
END:DAYLIGHT
BEGIN:STANDARD
TZOFFSETFROM:-0400
TZOFFSETTO:-0500
TZNAME:EST
DTSTART:20221106T060000
END:STANDARD
BEGIN:DAYLIGHT
TZOFFSETFROM:-0500
TZOFFSETTO:-0400
TZNAME:EDT
DTSTART:20230312T070000
END:DAYLIGHT
BEGIN:STANDARD
TZOFFSETFROM:-0400
TZOFFSETTO:-0500
TZNAME:EST
DTSTART:20231105T060000
END:STANDARD
BEGIN:DAYLIGHT
TZOFFSETFROM:-0500
TZOFFSETTO:-0400
TZNAME:EDT
DTSTART:20240310T070000
END:DAYLIGHT
BEGIN:STANDARD
TZOFFSETFROM:-0400
TZOFFSETTO:-0500
TZNAME:EST
DTSTART:20241103T060000
END:STANDARD
BEGIN:DAYLIGHT
TZOFFSETFROM:-0500
TZOFFSETTO:-0400
TZNAME:EDT
DTSTART:20250309T070000
END:DAYLIGHT
BEGIN:STANDARD
TZOFFSETFROM:-0400
TZOFFSETTO:-0500
TZNAME:EST
DTSTART:20251102T060000
END:STANDARD
BEGIN:DAYLIGHT
TZOFFSETFROM:-0500
TZOFFSETTO:-0400
TZNAME:EDT
DTSTART:20260308T070000
END:DAYLIGHT
BEGIN:STANDARD
TZOFFSETFROM:-0400
TZOFFSETTO:-0500
TZNAME:EST
DTSTART:20261101T060000
END:STANDARD
BEGIN:DAYLIGHT
TZOFFSETFROM:-0500
TZOFFSETTO:-0400
TZNAME:EDT
DTSTART:20270314T070000
END:DAYLIGHT
BEGIN:STANDARD
TZOFFSETFROM:-0400
TZOFFSETTO:-0500
TZNAME:EST
DTSTART:20271107T060000
END:STANDARD
END:VTIMEZONE
BEGIN:VEVENT
DTSTART;TZID=America/Indiana/Indianapolis:20260309T140000
DTEND;TZID=America/Indiana/Indianapolis:20260311T120000
DTSTAMP:20260420T172251
CREATED:20250529T201609Z
LAST-MODIFIED:20250529T201609Z
UID:48244-1773064800-1773230400@presbyterianfoundation.louderstaging.com
SUMMARY:Luminosity Conference
DESCRIPTION:This year’s Luminosity Conference is for pastors\, church leaders and friends to inspire imagination. It’s all about sparking imagination and equipping leaders with practical wisdom—because effective ministry isn’t just about what we do\, but how we envision\, steward\, and sustain our impact. \nLet’s dream boldly\, lead wisely\, and shine brightly — together. \nMark your calendars to join us in Orlando\, Florida on March 9-11\, 2026! \n \n  \n 
URL:https://presbyterianfoundation.louderstaging.com/event/luminosity-conference/
LOCATION:The Wyndham Lake Buena Vista Disney Springs\, 1850 Hotel Plaza Blvd\, Lake Buena Vista\, FL\, 32830\, United States
ATTACH;FMTTYPE=image/png:https://presbyterianfoundation.louderstaging.com/wp-content/uploads/2025/05/Luminosity-conf-logo-website.png
ORGANIZER;CN="Presbyterian Foundation":MAILTO:serving@presbyterianfoundation.louderstaging.com
END:VEVENT
BEGIN:VEVENT
DTSTART;VALUE=DATE:20260121
DTEND;VALUE=DATE:20260125
DTSTAMP:20260420T172251
CREATED:20250326T193409Z
LAST-MODIFIED:20250417T180313Z
UID:48053-1768953600-1769299199@presbyterianfoundation.louderstaging.com
SUMMARY:APCE Annual Event 2026
DESCRIPTION:The APCE Annual Event will be held in Pittsburgh\, Pennsylvania January 21-24\, 2026\, either in person or via Annual Event Online. Each day of the conference we will address a different topic of love. How to love God\, how to love self\, and how to love neighbor. \nThe Annual Event will be held at the Wyndam Grand in downtown Pittsburgh\, PA. Join us for\, Bridging the Gap – Love God\, Love Self\, Love Neighbor. \nWe hope you will join us for the 2026 APCE Annual Event!
URL:https://presbyterianfoundation.louderstaging.com/event/apce-annual-event-2026/
LOCATION:Wyndham Grand Pittsburgh Downtown\, 600 Commonwealth Pl\, Pittsburgh\, PA\, 15222\, United States
ATTACH;FMTTYPE=image/png:https://presbyterianfoundation.louderstaging.com/wp-content/uploads/2025/03/APCE-2026.png
ORGANIZER;CN="Association of Partners in Christian Education":MAILTO:info@apcenet.org
END:VEVENT
BEGIN:VEVENT
DTSTART;TZID=America/Indiana/Indianapolis:20251119T120000
DTEND;TZID=America/Indiana/Indianapolis:20251121T120000
DTSTAMP:20260420T172251
CREATED:20250219T195128Z
LAST-MODIFIED:20250507T174407Z
UID:47817-1763553600-1763726400@presbyterianfoundation.louderstaging.com
SUMMARY:Mid Council Financial Conference
DESCRIPTION:This gathering of presbytery and synod financial staff\, treasurers\, finance committee members\, and executives will be a time of learning from one another\, sharing our best practices\, and identifying emerging opportunities and challenges. \nPresentations will include topics\, such as: \n\nchurch law and tax update\ncybersecurity\ninvestment management in mid-councils\ninsurance issues and risk management\nproperty management and disposition\nborrowing issues in a changing interest-rate environment\ncongregation sustainability assessment\n\nMark your calendars to join us in Chicago\, Illinois on November 19-21\, 2025! \nA full schedule will be available closer to the conference date. 
URL:https://presbyterianfoundation.louderstaging.com/event/mid-council-financial-conference-2/
LOCATION:GA
ATTACH;FMTTYPE=image/png:https://presbyterianfoundation.louderstaging.com/wp-content/uploads/2023/12/MCFC-24.png
END:VEVENT
BEGIN:VEVENT
DTSTART;TZID=America/Indiana/Indianapolis:20251109T150000
DTEND;TZID=America/Indiana/Indianapolis:20251113T120000
DTSTAMP:20260420T172251
CREATED:20250307T131128Z
LAST-MODIFIED:20250307T131128Z
UID:47921-1762700400-1763035200@presbyterianfoundation.louderstaging.com
SUMMARY:Outdoor Ministry Connection Great Gathering
DESCRIPTION:The Great Gathering is an ecumenical gathering where leaders from diverse faith-based camps share best practices\, enhance their programs\, and improve the quality and impact of their ministries. This event will bring together outdoor ministry partners (directors\, program staff\, board members\, site and facility staff\, etc.) of mainline denominations to build relationships\, discover each other’s gifts\, and equip vital ministries so that we can honor and reimagine what has been done before as we aim into the unknown.
URL:https://presbyterianfoundation.louderstaging.com/event/outdoor-ministry-connection-great-gathering/
LOCATION:Lake Junaluska Retreat Center\, 91 North Lakeshore Dr.\, Lake Junaluska\, NC\, 28745\, United States
ATTACH;FMTTYPE=image/png:https://presbyterianfoundation.louderstaging.com/wp-content/uploads/2025/03/OMC.png
ORGANIZER;CN="Outdoor Ministry Connection":MAILTO:info@omcgreatgathering.com
END:VEVENT
BEGIN:VEVENT
DTSTART;VALUE=DATE:20251010
DTEND;VALUE=DATE:20251013
DTSTAMP:20260420T172251
CREATED:20250604T203132Z
LAST-MODIFIED:20250604T203132Z
UID:48274-1760054400-1760313599@presbyterianfoundation.louderstaging.com
SUMMARY:Presbyterian Hispanic Latina Women: Encuentro XI 2025
DESCRIPTION:Únete a las Mujeres Latinas Hispanas Presbiterianas en el XI Encuentro 2025\, Influyentes para del Reino de Dios.\n¡Apunta en tu calendario! No te pierdas esta oportunidad de aprender de oradoras dinámicas y otras mujeres presbiterianas\, y de participar en sesiones que invitan a la reflexión y que abordan temas vitales para la mujer cristiana moderna. \nMás información aquí. \nJoin the Presbyterian Hispanic Latina Women for Encuentro XI 2025\, Influencers for the Kingdom of God.\n\nMark your calendar! Don’t miss this opportunity to learn from dynamic speakers\, other Presbyterian women\, and participate in thought-provoking sessions covering topics vital to the modern Christian woman. \nLearn more here \n 
URL:https://presbyterianfoundation.louderstaging.com/event/presbyterian-hispanic-latina-women-encuentro-xi-2025/
LOCATION:Atlanta Airport Marriott Gateway Hotel\, 2020 Convention Center Concourse\, Atlanta\, GA\, 30337\, United States
ATTACH;FMTTYPE=image/png:https://presbyterianfoundation.louderstaging.com/wp-content/uploads/2025/06/Hispanic-Latinx-Event.png
ORGANIZER;CN="Presbyterian Hispanic Latina Women":MAILTO:equipocoordinadormhlp@gmail.com
END:VEVENT
BEGIN:VEVENT
DTSTART;TZID=America/Indiana/Indianapolis:20250922T120000
DTEND;TZID=America/Indiana/Indianapolis:20250924T123000
DTSTAMP:20260420T172251
CREATED:20250219T191657Z
LAST-MODIFIED:20250417T175654Z
UID:47811-1758542400-1758717000@presbyterianfoundation.louderstaging.com
SUMMARY:Stewardship Kaleidoscope
DESCRIPTION:Stewardship Kaleidoscope is an annual conference offering excellent plenary speakers\, informative workshop leaders\, provocative worship experiences\, and incredible networking opportunities for all passionate about stewardship and generosity. Drawing leaders from across the Presbyterian Church (PCUSA)\, the Lutheran Church (ELCA)\, and other ecumenical partners\, Stewardship Kaleidoscope is designed to help participants explore stewardship in its many colorful dimensions! \nOur mission is to create an annual event that: \n\n\n\n\n\n\n\n\nIgnites Generosity\nIt Gives Practical Tools for Cultivating Generosity in Congregations\nExpands the Leadership Capacity of Those Who Lead Stewardship Initiatives\nCultivates Adaptive Approaches for Funding Christ’s Mission\n\nMark your calendars to join us in New Orleans\, Louisiana on September 22-24\, 2025! \n\nFind out more
URL:https://presbyterianfoundation.louderstaging.com/event/stewardship-kaleidoscope-2/
LOCATION:Sheraton New Orleans Hotel\, 500 Canal St.\, New Orleans\, LA\, 70130\, United States
ATTACH;FMTTYPE=image/png:https://presbyterianfoundation.louderstaging.com/wp-content/uploads/2025/02/SK-2025-event.png
END:VEVENT
BEGIN:VEVENT
DTSTART;TZID=America/Indiana/Indianapolis:20250728T150000
DTEND;TZID=America/Indiana/Indianapolis:20250731T123000
DTSTAMP:20260420T172251
CREATED:20250219T190028Z
LAST-MODIFIED:20250612T131122Z
UID:47806-1753714800-1753965000@presbyterianfoundation.louderstaging.com
SUMMARY:Presbyterian Youth Triennium
DESCRIPTION:The Presbyterian Youth Triennium (PYT) is an ecumenical event hosted by the Presbyterian Church (U.S.A.) and the Cumberland Presbyterian Church that gathers high school age young people every 3 years. It is a well-planned and thoughtfully led event focused on worship\, disciple making\, Christian compassion & justice and biblical/theological education. It is also a catalyst for many young people to take the next steps in their faith. The experience will be one of those life-shaping faith forming events that you will never forget!
URL:https://presbyterianfoundation.louderstaging.com/event/presbyterian-youth-triennium/
LOCATION:Kentucky International Convention Center (KICC)\, 221 S. Fourth St.\, Louisville\, KY\, 40202\, United States
ATTACH;FMTTYPE=image/png:https://presbyterianfoundation.louderstaging.com/wp-content/uploads/2025/02/Youth-Triennium-Website.png
END:VEVENT
BEGIN:VEVENT
DTSTART;TZID=America/Indiana/Indianapolis:20250626T113000
DTEND;TZID=America/Indiana/Indianapolis:20250626T153000
DTSTAMP:20260420T172251
CREATED:20250425T160813Z
LAST-MODIFIED:20250501T200159Z
UID:48172-1750937400-1750951800@presbyterianfoundation.louderstaging.com
SUMMARY:Day of Learning: Storytelling\, Stewardship and Generosity
DESCRIPTION:Join the Presbyterian Foundation for another informative online Day of Learning\, designed for churches\, mid councils\, and ministries to learn more about how to use the power of storytelling to increase stewardship\, planned giving\, and generosity. You’ll hear from experts who have worked with hundreds of congregations just like yours. This event is FREE\, and we will be happy to take your questions. Sign up even if you can’t attend in person; we’ll provide resources and recordings following the Day of Learning. \nAll sessions will be offered on Zoom. \nSchedule  \n11:30 am to 12 pm (Eastern) Keynote: Storytelling\, Robyn Davis Sekula\, Vice President of Communications and Marketing\, Presbyterian Foundation \n12 to 12:45 pm (Eastern) Workshop:  Stewardship\, Rev. Ellie Johns-Kelley\, Ministry Relations Officer\, Presbyterian Foundation \n12:45 – 1 pm (Eastern) We’ll take your questions \n2 – 3 pm (Eastern) Workshop: Planned Giving\, Rev. Sandra Moon\, Ministry Relations Officer\, and Karl Mattison\, Vice President of Planned Giving\, Presbyterian Foundation \n3 -3:15 pm (Eastern) We’ll take your questions
URL:https://presbyterianfoundation.louderstaging.com/event/day-of-learning-storytelling-stewardship-and-generosity/
LOCATION:GA
ATTACH;FMTTYPE=image/png:https://presbyterianfoundation.louderstaging.com/wp-content/uploads/2025/04/dol-25-event-image.png
END:VEVENT
BEGIN:VEVENT
DTSTART;TZID=America/Indiana/Indianapolis:20250622T170000
DTEND;TZID=America/Indiana/Indianapolis:20250627T120000
DTSTAMP:20260420T172251
CREATED:20250307T132501Z
LAST-MODIFIED:20250528T202122Z
UID:47928-1750611600-1751025600@presbyterianfoundation.louderstaging.com
SUMMARY:2025 Ukirk Ecumenical National Gathering
DESCRIPTION:We are excited to be joining with our ELCA and Episcopal colleagues this summer for our in-person National Gathering at Washington University in St. Louis\, MO\, June 24-27\, 2025. \nNot only will this conference offer time for education\, collegial networking\, and fellowship for campus ministry staff\, we are also inviting those working with young adults in the PC(USA) to join their Lutheran and Episcopalian colleagues. You can expect uplifting worship\, dynamic speakers\, and relevant workshops\, as well as an afternoon for experiential learning with local partners in St. Louis. \nThe conference theme is ‘Justice & Joy.’ Our grounding text is Romans‬ ‭12‬:‭15\, “Rejoice with those who rejoice\, weep with those who weep.” The theme and scripture text invite us to courageously face injustice\, tribulation\, and brokenness in our world while faithfully bearing witness to God’s justice\, joy\, and healing presence. It is a call both to empathy and action\, to solidarity and advocacy. \nFind more here
URL:https://presbyterianfoundation.louderstaging.com/event/2025-ukirk-ecumenical-national-gathering/
LOCATION:Washington University\, 1 Brookings Dr.\, St. Louis\, MO\, 63130\, United States
ATTACH;FMTTYPE=image/png:https://presbyterianfoundation.louderstaging.com/wp-content/uploads/2025/03/ukirk.png
ORGANIZER;CN="Ukirk Collegiate Ministries":MAILTO:ukirknational@gmail.com
END:VEVENT
BEGIN:VEVENT
DTSTART;TZID=America/Indiana/Indianapolis:20250615T073000
DTEND;TZID=America/Indiana/Indianapolis:20250620T193000
DTSTAMP:20260420T172251
CREATED:20250306T212812Z
LAST-MODIFIED:20250306T212812Z
UID:47916-1749972600-1750447800@presbyterianfoundation.louderstaging.com
SUMMARY:Presbyterian Association of Musicians 2025 Worship & Music Conference
DESCRIPTION:Join musicians and worship leaders for the most widely-attended annual conference of the Presbyterian Church (U.S.A.) denomination. \nYour participation is an investment in the dynamic growth of our denomination as we explore the promising future together. \nJune 15-20 & June 22-27\, 2025\, at the Montreat Conference Center in Montreat\, North Carolina! Together\, we will create music\, learn\, and worship. 
URL:https://presbyterianfoundation.louderstaging.com/event/presbyterian-association-of-musicians-2025-worship-music-conference/
LOCATION:Montreat Conference Center\, 401 Assembly Dr.\, Montreat\, NC\, 28757\, United States
ATTACH;FMTTYPE=image/png:https://presbyterianfoundation.louderstaging.com/wp-content/uploads/2025/03/PAM.png
ORGANIZER;CN="Presbyterian Association of Musicians":MAILTO:pam@pcusa.org
END:VEVENT
BEGIN:VEVENT
DTSTART;TZID=America/Indiana/Indianapolis:20250320T130000
DTEND;TZID=America/Indiana/Indianapolis:20250320T130000
DTSTAMP:20260420T172251
CREATED:20250227T184039Z
LAST-MODIFIED:20250227T184104Z
UID:47873-1742475600-1742475600@presbyterianfoundation.louderstaging.com
SUMMARY:Responsible Investing Webinar
DESCRIPTION:How do we faithfully steward all that God has entrusted to us? As people of faith\, we are called to align our resources with our values — investing wisely while advocating for corporate responsibility. \nJoin us for an inspiring webinar on March 20\, 2025\, at 1:00 PM Eastern (10:00 AM Pacific) to explore how values-based investing can drive meaningful change in the world. \nWHAT YOU’LL LEARN:  \n\nHow New Covenant Trust Company offers socially responsible investment opportunities\nHow the Presbyterian Church (U.S.A.) Mission Responsibility Through Investment encourages corporations to be better global citizens\nHow the Interfaith Center on Corporate Responsibility mobilizes faith-based investors to create lasting impact\n\nDiscover how you can make a difference through faith-driven investments and shareholder advocacy. \nRegister here \nFor questions or more information\, contact us at trustservices@presbyterianfoundation.louderstaging.com or 800-858-6127\, Option 6.
URL:https://presbyterianfoundation.louderstaging.com/event/responsible-investing-webinar/
LOCATION:GA
ATTACH;FMTTYPE=image/png:https://presbyterianfoundation.louderstaging.com/wp-content/uploads/2025/02/event-logo-webinar.png
ORGANIZER;CN="New Covanent Trust Company":MAILTO:trustservices@presbyterianfoundation.louderstaging.com
END:VEVENT
BEGIN:VEVENT
DTSTART;TZID=America/Indiana/Indianapolis:20241120T120000
DTEND;TZID=America/Indiana/Indianapolis:20241122T120000
DTSTAMP:20260420T172251
CREATED:20231219T145738Z
LAST-MODIFIED:20241120T145019Z
UID:45535-1732104000-1732276800@presbyterianfoundation.louderstaging.com
SUMMARY:Mid Council Financial Conference
DESCRIPTION:This gathering of presbytery and synod financial staff\, treasurers\, finance committee members\, and executives will be a time of learning from one another\, sharing our best practices\, and identifying emerging opportunities and challenges. \nPresentations will include topics\, such as: \n\nchurch law and tax update\ncybersecurity\ninvestment management in mid-councils\ninsurance issues and risk management\nproperty management and disposition\nborrowing issues in a changing interest-rate environment\ncongregation sustainability assessment\n\nRegistration is now closed. \nThe event schedule can be viewed here. \nFor our attendees\, please read the information below. \nThe conference is located at North Avenue Presbyterian Church\, 607 Peachtree St NE\, Atlanta\, GA 30308. (Please note there are many variations of Peachtree Streets in Atlanta. Be sure the address you use is NORTHEAST.) \nIf you are on foot\, you can ONLY enter and exit from the church’s Peachtree Street door. We’ll keep an eye out for guests and look forward to welcoming you! \nYou may park at the church during the day if needed\, but do not use church parking overnight. If staying at the Georgian Terrace Hotel\, please park there. \nParking is available in the church’s garage\, which is located at 607 Courtland St NE (also called Juniper Street on some maps and signs). Please pull a ticket as you enter and the church will validate your parking. When you enter the church from the parking garage\, you will need a code to access the church; this will only be used during our conference. Enter 1122 on the keypad and press the handicap button to open the door. This can ONLY be used at the Courtland Street parking deck entrance to the church. \nFor any questions or assistance\, please feel free to contact Robyn Sekula at (502) 608-6125 or robyn.sekula@presbyterianfoundation.louderstaging.com.
URL:https://presbyterianfoundation.louderstaging.com/event/mid-council-financial-conference/
LOCATION:North Avenue Presbyterian Church\, 607 Peachtree Street NE\, Atlanta\, GA\, 30308\, United States
ATTACH;FMTTYPE=image/png:https://presbyterianfoundation.louderstaging.com/wp-content/uploads/2023/12/MCFC-24.png
END:VEVENT
BEGIN:VEVENT
DTSTART;VALUE=DATE:20240923
DTEND;VALUE=DATE:20240926
DTSTAMP:20260420T172251
CREATED:20231130T155127Z
LAST-MODIFIED:20231208T211347Z
UID:45310-1727049600-1727308799@presbyterianfoundation.louderstaging.com
SUMMARY:Stewardship Kaleidoscope
DESCRIPTION:Stewardship Kaleidoscope is an annual conference offering excellent plenary speakers\, informative workshop leaders\, provocative worship experiences\, and incredible networking opportunities for all passionate about stewardship and generosity. Drawing leaders from across the Presbyterian Church (PCUSA) and other ecumenical partners\, Stewardship Kaleidoscope is designed to help participants explore stewardship in its many colorful dimensions! \nOur mission is to create an annual event that: \n\n\n\n\n\n\n\n\nIgnites Generosity\nIt Gives Practical Tools for Cultivating Generosity in Congregations\nExpands the Leadership Capacity of Those Who Lead Stewardship Initiatives\nCultivates Adaptive Approaches for Funding Christ’s Mission\n\nMark your calendars to join us in Portland\, Oregon on September 23 – 25\, 2024! \nFind out more
URL:https://presbyterianfoundation.louderstaging.com/event/stewardship-kaleidoscope/
LOCATION:GA
ATTACH;FMTTYPE=image/png:https://presbyterianfoundation.louderstaging.com/wp-content/uploads/2023/11/sk-2024.png
END:VEVENT
BEGIN:VEVENT
DTSTART;VALUE=DATE:20240625
DTEND;VALUE=DATE:20240705
DTSTAMP:20260420T172251
CREATED:20231208T195244Z
LAST-MODIFIED:20231208T210924Z
UID:45447-1719273600-1720137599@presbyterianfoundation.louderstaging.com
SUMMARY:226th General Assembly
DESCRIPTION:The General Assembly consists of commissioners elected by presbyteries. Half of the commissioners will be ruling elders\, half will be teaching elders. Few will ever have been commissioners to the General Assembly before\, but most will have served in one of the other governing bodies of our church: the session\, which provides care and oversight of a local congregation; the presbytery\, which provides care and oversight of a group of congregations; or the synod which provides care and oversight of several presbyteries. \nIt reviews the work of synods\, resolves controversies in the church\, is responsible for matters of common concern for the whole church\, and serves as a symbol of unity for the church. \nThe General Assembly has several specific responsibilities outlined in Chapter 3 of the Book of Order. The assembly seeks to protect our church from errors in faith and practice\, is responsible for assuring that the expression of our theology remains true to the biblical standards in our historic confessions. The General Assembly presents a witness for truth and justice in our community and in the world community. It sets priorities for the church and establishes relationships with other churches or ecumenical bodies. \nThe 226th General Assembly (2024) will take place in Salt Lake City\, UT from June 25 through July 4\, 2024. \nMore information
URL:https://presbyterianfoundation.louderstaging.com/event/226th-general-assembly/
LOCATION:GA
ATTACH;FMTTYPE=image/png:https://presbyterianfoundation.louderstaging.com/wp-content/uploads/2023/12/ga-226.png
END:VEVENT
BEGIN:VEVENT
DTSTART;VALUE=DATE:20240423
DTEND;VALUE=DATE:20240426
DTSTAMP:20260420T172251
CREATED:20231208T203609Z
LAST-MODIFIED:20231208T210221Z
UID:45465-1713830400-1714089599@presbyterianfoundation.louderstaging.com
SUMMARY:The Fellowship Community: 2024 National Gathering
DESCRIPTION:In stressful times\, it’s restorative and uplifting to remember the big picture of who we are as God’s people in the world. And it’s refreshing to be with friends in faith! Since the earliest days of the Church\, Jesus followers have been called to engage the culture around them and to distinguish themselves from the culture\, all for the sake of the Gospel. Join the Fellowship Community to talk\, pray\, and dream together about how we can best live into this biblical vision in our own contexts. (Nashville will be a fun and interesting place to have these conversations\, too!) \nRegister now to attend the 2024 National Gathering April 23-25\, 2024 at First Presbyterian Church in Nashville\, TN.
URL:https://presbyterianfoundation.louderstaging.com/event/the-fellowship-community-2024-national-gathering/
LOCATION:First Presbyterian Church Nashville\, TN\, 4815 Franklin Pike\, Nashville\, TN\, 37220\, United States
ATTACH;FMTTYPE=image/png:https://presbyterianfoundation.louderstaging.com/wp-content/uploads/2023/12/fellowship-image-square.png
END:VEVENT
BEGIN:VEVENT
DTSTART;VALUE=DATE:20240124
DTEND;VALUE=DATE:20240128
DTSTAMP:20260420T172251
CREATED:20231208T202931Z
LAST-MODIFIED:20231211T154353Z
UID:45453-1706054400-1706399999@presbyterianfoundation.louderstaging.com
SUMMARY:2024 APCE Annual Event
DESCRIPTION:You are invited to the 2024 APCE Annual Event: Come all who are Thirsty \n\n\n\n\nThe Spirit calls out to us…\n… in our wandering and wondering\n… in our weariness and wanting\n… in our waiting and worry\nThe Spirit calls out to us… “Come\, all who are thirsty.” \n“Let everyone who is thirsty come. Let anyone who wishes take the water of life as a gift.” Revelation 22:17 \nSometimes our lives and ministry leave us parched and thirsting for a deeper experience of the water of life. Come join us in St. Louis for the 2024 APCE Annual Event and be refreshed and renewed. Each day of the conference we will address how God is able to renew us as we thirst for justice\, thirst for life\, thirst for kindness and joy. \nWe invite you to join us January 24 – 27\, 2024\, for the 2024 APCE Annual Event\, either in person in St. Louis\, MO\, or via Annual Event Online. \nFind out more or register
URL:https://presbyterianfoundation.louderstaging.com/event/come-all-who-are-thirsty-2024-apce-annual-event/
LOCATION:Union Station Hotel\, 1820 Market St\, St. Louis\, MO\, 63103\, United States
ATTACH;FMTTYPE=image/png:https://presbyterianfoundation.louderstaging.com/wp-content/uploads/2023/12/apce.png
ORGANIZER;CN="Association of Partners in Christian Education":MAILTO:info@apcenet.org
END:VEVENT
BEGIN:VEVENT
DTSTART;VALUE=DATE:20231130
DTEND;VALUE=DATE:20231201
DTSTAMP:20260420T172251
CREATED:20231130T162447Z
LAST-MODIFIED:20231208T184353Z
UID:45316-1701302400-1701388799@presbyterianfoundation.louderstaging.com
SUMMARY:Test Event
DESCRIPTION:
URL:https://presbyterianfoundation.louderstaging.com/event/test-event/
LOCATION:Test Venue\, Louisville\, Kentucky
END:VEVENT
END:VCALENDAR